BEGIN:VCALENDAR
VERSION:2.0
PRODID:-//Love Flemington - ECPv6.15.18//NONSGML v1.0//EN
CALSCALE:GREGORIAN
METHOD:PUBLISH
X-ORIGINAL-URL:https://www.loveflemington.com
X-WR-CALDESC:Events for Love Flemington
REFRESH-INTERVAL;VALUE=DURATION:PT1H
X-Robots-Tag:noindex
X-PUBLISHED-TTL:PT1H
BEGIN:VTIMEZONE
TZID:America/New_York
BEGIN:DAYLIGHT
TZOFFSETFROM:-0500
TZOFFSETTO:-0400
TZNAME:EDT
DTSTART:20240310T070000
END:DAYLIGHT
BEGIN:STANDARD
TZOFFSETFROM:-0400
TZOFFSETTO:-0500
TZNAME:EST
DTSTART:20241103T060000
END:STANDARD
BEGIN:DAYLIGHT
TZOFFSETFROM:-0500
TZOFFSETTO:-0400
TZNAME:EDT
DTSTART:20250309T070000
END:DAYLIGHT
BEGIN:STANDARD
TZOFFSETFROM:-0400
TZOFFSETTO:-0500
TZNAME:EST
DTSTART:20251102T060000
END:STANDARD
BEGIN:DAYLIGHT
TZOFFSETFROM:-0500
TZOFFSETTO:-0400
TZNAME:EDT
DTSTART:20260308T070000
END:DAYLIGHT
BEGIN:STANDARD
TZOFFSETFROM:-0400
TZOFFSETTO:-0500
TZNAME:EST
DTSTART:20261101T060000
END:STANDARD
END:VTIMEZONE
BEGIN:VEVENT
DTSTART;TZID=America/New_York:20250806T190000
DTEND;TZID=America/New_York:20250806T203000
DTSTAMP:20260419T103310
CREATED:20250718T180940Z
LAST-MODIFIED:20250718T180940Z
UID:10016898-1754506800-1754512200@www.loveflemington.com
SUMMARY:Womens Empowerment Circle: Community\, Conversation\, Connection
DESCRIPTION:Come explore the stories\, archetypes and ancient wisdom of Clarissa Pinkola Estes’ classic: Women Who Run With the Wolves in a nurturing supportive environment. This month’s theme: Connecting with the Wild Woman Within. Who is she? Why is she in danger of becoming extinct? What can she teach us about navigating the unique challenges women face today?
URL:https://www.loveflemington.com/event/womens-empowerment-circle-community-conversation-connection-2/
LOCATION:Within Spirit\, 37 Stangl Road\, Flemington\, NJ\, 08822\, United States
CATEGORIES:Book Events,Community,Homepage Event,Spirituality,Stangl Arts & Cultural District,Summer,Summer Fun,Wellness,Workshops
ATTACH;FMTTYPE=image/png:https://www.loveflemington.com/wp-content/uploads/2025/07/Screenshot-2025-07-18-at-2.05.09-PM.png
ORGANIZER;CN="Roots and Wings Women's Empowerment":MAILTO:lisa@rootsandwingsnj.com
END:VEVENT
BEGIN:VEVENT
DTSTART;TZID=America/New_York:20250604T190000
DTEND;TZID=America/New_York:20250604T203000
DTSTAMP:20260419T103310
CREATED:20250514T202624Z
LAST-MODIFIED:20250514T202624Z
UID:10016887-1749063600-1749069000@www.loveflemington.com
SUMMARY:Womens Empowerment Circle: Community\, Conversation\, Connection
DESCRIPTION:Join us for an fun evening of community\, conversation and connection! Based on the classic book: Women Who Run With the Wolves. No previous knowledge of the book is necessary. Bring a friend (or two!)This session story: La Loba: The Resurrection of the Wild WomanWe all have pieces of ourselves that have been lost\, buried\, mismanaged or simply forgotten. This happens in the natural process of daily life when we are working\, completing routine tasks\, and tending to the needs of everyone around us. But these lost parts of ourselves are necessary for our vitality\, our sense of purpose and happiness. They are pieces of our authentic self\, or soul. Fortunately\, we can retrieve these pieces and give them the attention they need to grow and flourish! Join us\, as we resurrect the wild woman within you!The cost is $25. The investment is priceless! 
URL:https://www.loveflemington.com/event/womens-empowerment-circle-community-conversation-connection/
LOCATION:Within Spirit\, 37 Stangl Road\, Flemington\, NJ\, 08822\, United States
CATEGORIES:Homepage Event,Stangl Arts & Cultural District,Wellness,Workshops
ATTACH;FMTTYPE=image/png:https://www.loveflemington.com/wp-content/uploads/2025/05/1mb-flyer-withinspirit.png
ORGANIZER;CN="Roots and Wings Women's Empowerment":MAILTO:lisa@rootsandwingsnj.com
END:VEVENT
END:VCALENDAR