BEGIN:VCALENDAR
VERSION:2.0
PRODID:-//Love Flemington - ECPv6.15.18//NONSGML v1.0//EN
CALSCALE:GREGORIAN
METHOD:PUBLISH
X-ORIGINAL-URL:https://www.loveflemington.com
X-WR-CALDESC:Events for Love Flemington
REFRESH-INTERVAL;VALUE=DURATION:PT1H
X-Robots-Tag:noindex
X-PUBLISHED-TTL:PT1H
BEGIN:VTIMEZONE
TZID:America/New_York
BEGIN:DAYLIGHT
TZOFFSETFROM:-0500
TZOFFSETTO:-0400
TZNAME:EDT
DTSTART:20270314T070000
END:DAYLIGHT
BEGIN:STANDARD
TZOFFSETFROM:-0400
TZOFFSETTO:-0500
TZNAME:EST
DTSTART:20271107T060000
END:STANDARD
BEGIN:DAYLIGHT
TZOFFSETFROM:-0500
TZOFFSETTO:-0400
TZNAME:EDT
DTSTART:20280312T070000
END:DAYLIGHT
BEGIN:STANDARD
TZOFFSETFROM:-0400
TZOFFSETTO:-0500
TZNAME:EST
DTSTART:20281105T060000
END:STANDARD
BEGIN:DAYLIGHT
TZOFFSETFROM:-0500
TZOFFSETTO:-0400
TZNAME:EDT
DTSTART:20290311T070000
END:DAYLIGHT
BEGIN:STANDARD
TZOFFSETFROM:-0400
TZOFFSETTO:-0500
TZNAME:EST
DTSTART:20291104T060000
END:STANDARD
END:VTIMEZONE
BEGIN:VEVENT
DTSTART;TZID=America/New_York:20280120T183000
DTEND;TZID=America/New_York:20280120T213000
DTSTAMP:20260424T141008
CREATED:20230914T214829Z
LAST-MODIFIED:20231031T171546Z
UID:10015587-1832005800-1832016600@www.loveflemington.com
SUMMARY:Skunktown Karaoke Night
DESCRIPTION:EVERY THURSDAY\, 6:30 TO 9:30 \nHOSTED BY DJ TED D’BIERRE OF LIONFIRE ENTERTAINMENT \nSKUNKTOWN DISTILLERY \n39 STANGL RD\, FLEMINGTON\, NJ
URL:https://www.loveflemington.com/event/skunktown-karaoke-night/2028-01-20/
LOCATION:Skunktown Distillery\, 39 Stangl Rd\, Flemington\, 08822\, United States
CATEGORIES:Contest,Fall Fun
ATTACH;FMTTYPE=image/png:https://www.loveflemington.com/wp-content/uploads/2023/09/night-1.png
END:VEVENT
BEGIN:VEVENT
DTSTART;TZID=America/New_York:20280127T183000
DTEND;TZID=America/New_York:20280127T213000
DTSTAMP:20260424T141008
CREATED:20230914T214829Z
LAST-MODIFIED:20231031T171546Z
UID:10015588-1832610600-1832621400@www.loveflemington.com
SUMMARY:Skunktown Karaoke Night
DESCRIPTION:EVERY THURSDAY\, 6:30 TO 9:30 \nHOSTED BY DJ TED D’BIERRE OF LIONFIRE ENTERTAINMENT \nSKUNKTOWN DISTILLERY \n39 STANGL RD\, FLEMINGTON\, NJ
URL:https://www.loveflemington.com/event/skunktown-karaoke-night/2028-01-27/
LOCATION:Skunktown Distillery\, 39 Stangl Rd\, Flemington\, 08822\, United States
CATEGORIES:Contest,Fall Fun
ATTACH;FMTTYPE=image/png:https://www.loveflemington.com/wp-content/uploads/2023/09/night-1.png
END:VEVENT
BEGIN:VEVENT
DTSTART;TZID=America/New_York:20280203T183000
DTEND;TZID=America/New_York:20280203T213000
DTSTAMP:20260424T141008
CREATED:20230914T214829Z
LAST-MODIFIED:20231031T171546Z
UID:10015589-1833215400-1833226200@www.loveflemington.com
SUMMARY:Skunktown Karaoke Night
DESCRIPTION:EVERY THURSDAY\, 6:30 TO 9:30 \nHOSTED BY DJ TED D’BIERRE OF LIONFIRE ENTERTAINMENT \nSKUNKTOWN DISTILLERY \n39 STANGL RD\, FLEMINGTON\, NJ
URL:https://www.loveflemington.com/event/skunktown-karaoke-night/2028-02-03/
LOCATION:Skunktown Distillery\, 39 Stangl Rd\, Flemington\, 08822\, United States
CATEGORIES:Contest,Fall Fun
ATTACH;FMTTYPE=image/png:https://www.loveflemington.com/wp-content/uploads/2023/09/night-1.png
END:VEVENT
BEGIN:VEVENT
DTSTART;TZID=America/New_York:20280210T183000
DTEND;TZID=America/New_York:20280210T213000
DTSTAMP:20260424T141008
CREATED:20230914T214829Z
LAST-MODIFIED:20231031T171546Z
UID:10015590-1833820200-1833831000@www.loveflemington.com
SUMMARY:Skunktown Karaoke Night
DESCRIPTION:EVERY THURSDAY\, 6:30 TO 9:30 \nHOSTED BY DJ TED D’BIERRE OF LIONFIRE ENTERTAINMENT \nSKUNKTOWN DISTILLERY \n39 STANGL RD\, FLEMINGTON\, NJ
URL:https://www.loveflemington.com/event/skunktown-karaoke-night/2028-02-10/
LOCATION:Skunktown Distillery\, 39 Stangl Rd\, Flemington\, 08822\, United States
CATEGORIES:Contest,Fall Fun
ATTACH;FMTTYPE=image/png:https://www.loveflemington.com/wp-content/uploads/2023/09/night-1.png
END:VEVENT
BEGIN:VEVENT
DTSTART;TZID=America/New_York:20280217T183000
DTEND;TZID=America/New_York:20280217T213000
DTSTAMP:20260424T141008
CREATED:20230914T214829Z
LAST-MODIFIED:20231031T171546Z
UID:10015591-1834425000-1834435800@www.loveflemington.com
SUMMARY:Skunktown Karaoke Night
DESCRIPTION:EVERY THURSDAY\, 6:30 TO 9:30 \nHOSTED BY DJ TED D’BIERRE OF LIONFIRE ENTERTAINMENT \nSKUNKTOWN DISTILLERY \n39 STANGL RD\, FLEMINGTON\, NJ
URL:https://www.loveflemington.com/event/skunktown-karaoke-night/2028-02-17/
LOCATION:Skunktown Distillery\, 39 Stangl Rd\, Flemington\, 08822\, United States
CATEGORIES:Contest,Fall Fun
ATTACH;FMTTYPE=image/png:https://www.loveflemington.com/wp-content/uploads/2023/09/night-1.png
END:VEVENT
BEGIN:VEVENT
DTSTART;TZID=America/New_York:20280224T183000
DTEND;TZID=America/New_York:20280224T213000
DTSTAMP:20260424T141008
CREATED:20230914T214829Z
LAST-MODIFIED:20231031T171546Z
UID:10015592-1835029800-1835040600@www.loveflemington.com
SUMMARY:Skunktown Karaoke Night
DESCRIPTION:EVERY THURSDAY\, 6:30 TO 9:30 \nHOSTED BY DJ TED D’BIERRE OF LIONFIRE ENTERTAINMENT \nSKUNKTOWN DISTILLERY \n39 STANGL RD\, FLEMINGTON\, NJ
URL:https://www.loveflemington.com/event/skunktown-karaoke-night/2028-02-24/
LOCATION:Skunktown Distillery\, 39 Stangl Rd\, Flemington\, 08822\, United States
CATEGORIES:Contest,Fall Fun
ATTACH;FMTTYPE=image/png:https://www.loveflemington.com/wp-content/uploads/2023/09/night-1.png
END:VEVENT
BEGIN:VEVENT
DTSTART;TZID=America/New_York:20280302T183000
DTEND;TZID=America/New_York:20280302T213000
DTSTAMP:20260424T141008
CREATED:20230914T214829Z
LAST-MODIFIED:20231031T171546Z
UID:10015593-1835634600-1835645400@www.loveflemington.com
SUMMARY:Skunktown Karaoke Night
DESCRIPTION:EVERY THURSDAY\, 6:30 TO 9:30 \nHOSTED BY DJ TED D’BIERRE OF LIONFIRE ENTERTAINMENT \nSKUNKTOWN DISTILLERY \n39 STANGL RD\, FLEMINGTON\, NJ
URL:https://www.loveflemington.com/event/skunktown-karaoke-night/2028-03-02/
LOCATION:Skunktown Distillery\, 39 Stangl Rd\, Flemington\, 08822\, United States
CATEGORIES:Contest,Fall Fun
ATTACH;FMTTYPE=image/png:https://www.loveflemington.com/wp-content/uploads/2023/09/night-1.png
END:VEVENT
BEGIN:VEVENT
DTSTART;TZID=America/New_York:20280309T183000
DTEND;TZID=America/New_York:20280309T213000
DTSTAMP:20260424T141008
CREATED:20230914T214829Z
LAST-MODIFIED:20231031T171546Z
UID:10015594-1836239400-1836250200@www.loveflemington.com
SUMMARY:Skunktown Karaoke Night
DESCRIPTION:EVERY THURSDAY\, 6:30 TO 9:30 \nHOSTED BY DJ TED D’BIERRE OF LIONFIRE ENTERTAINMENT \nSKUNKTOWN DISTILLERY \n39 STANGL RD\, FLEMINGTON\, NJ
URL:https://www.loveflemington.com/event/skunktown-karaoke-night/2028-03-09/
LOCATION:Skunktown Distillery\, 39 Stangl Rd\, Flemington\, 08822\, United States
CATEGORIES:Contest,Fall Fun
ATTACH;FMTTYPE=image/png:https://www.loveflemington.com/wp-content/uploads/2023/09/night-1.png
END:VEVENT
BEGIN:VEVENT
DTSTART;TZID=America/New_York:20280316T183000
DTEND;TZID=America/New_York:20280316T213000
DTSTAMP:20260424T141008
CREATED:20230914T214829Z
LAST-MODIFIED:20231031T171546Z
UID:10015595-1836844200-1836855000@www.loveflemington.com
SUMMARY:Skunktown Karaoke Night
DESCRIPTION:EVERY THURSDAY\, 6:30 TO 9:30 \nHOSTED BY DJ TED D’BIERRE OF LIONFIRE ENTERTAINMENT \nSKUNKTOWN DISTILLERY \n39 STANGL RD\, FLEMINGTON\, NJ
URL:https://www.loveflemington.com/event/skunktown-karaoke-night/2028-03-16/
LOCATION:Skunktown Distillery\, 39 Stangl Rd\, Flemington\, 08822\, United States
CATEGORIES:Contest,Fall Fun
ATTACH;FMTTYPE=image/png:https://www.loveflemington.com/wp-content/uploads/2023/09/night-1.png
END:VEVENT
BEGIN:VEVENT
DTSTART;TZID=America/New_York:20280323T183000
DTEND;TZID=America/New_York:20280323T213000
DTSTAMP:20260424T141008
CREATED:20230914T214829Z
LAST-MODIFIED:20231031T171546Z
UID:10015596-1837449000-1837459800@www.loveflemington.com
SUMMARY:Skunktown Karaoke Night
DESCRIPTION:EVERY THURSDAY\, 6:30 TO 9:30 \nHOSTED BY DJ TED D’BIERRE OF LIONFIRE ENTERTAINMENT \nSKUNKTOWN DISTILLERY \n39 STANGL RD\, FLEMINGTON\, NJ
URL:https://www.loveflemington.com/event/skunktown-karaoke-night/2028-03-23/
LOCATION:Skunktown Distillery\, 39 Stangl Rd\, Flemington\, 08822\, United States
CATEGORIES:Contest,Fall Fun
ATTACH;FMTTYPE=image/png:https://www.loveflemington.com/wp-content/uploads/2023/09/night-1.png
END:VEVENT
BEGIN:VEVENT
DTSTART;TZID=America/New_York:20280330T183000
DTEND;TZID=America/New_York:20280330T213000
DTSTAMP:20260424T141008
CREATED:20230914T214829Z
LAST-MODIFIED:20231031T171546Z
UID:10015597-1838053800-1838064600@www.loveflemington.com
SUMMARY:Skunktown Karaoke Night
DESCRIPTION:EVERY THURSDAY\, 6:30 TO 9:30 \nHOSTED BY DJ TED D’BIERRE OF LIONFIRE ENTERTAINMENT \nSKUNKTOWN DISTILLERY \n39 STANGL RD\, FLEMINGTON\, NJ
URL:https://www.loveflemington.com/event/skunktown-karaoke-night/2028-03-30/
LOCATION:Skunktown Distillery\, 39 Stangl Rd\, Flemington\, 08822\, United States
CATEGORIES:Contest,Fall Fun
ATTACH;FMTTYPE=image/png:https://www.loveflemington.com/wp-content/uploads/2023/09/night-1.png
END:VEVENT
BEGIN:VEVENT
DTSTART;TZID=America/New_York:20280406T183000
DTEND;TZID=America/New_York:20280406T213000
DTSTAMP:20260424T141008
CREATED:20230914T214829Z
LAST-MODIFIED:20231031T171546Z
UID:10015598-1838658600-1838669400@www.loveflemington.com
SUMMARY:Skunktown Karaoke Night
DESCRIPTION:EVERY THURSDAY\, 6:30 TO 9:30 \nHOSTED BY DJ TED D’BIERRE OF LIONFIRE ENTERTAINMENT \nSKUNKTOWN DISTILLERY \n39 STANGL RD\, FLEMINGTON\, NJ
URL:https://www.loveflemington.com/event/skunktown-karaoke-night/2028-04-06/
LOCATION:Skunktown Distillery\, 39 Stangl Rd\, Flemington\, 08822\, United States
CATEGORIES:Contest,Fall Fun
ATTACH;FMTTYPE=image/png:https://www.loveflemington.com/wp-content/uploads/2023/09/night-1.png
END:VEVENT
BEGIN:VEVENT
DTSTART;TZID=America/New_York:20280413T183000
DTEND;TZID=America/New_York:20280413T213000
DTSTAMP:20260424T141008
CREATED:20230914T214829Z
LAST-MODIFIED:20231031T171546Z
UID:10015599-1839263400-1839274200@www.loveflemington.com
SUMMARY:Skunktown Karaoke Night
DESCRIPTION:EVERY THURSDAY\, 6:30 TO 9:30 \nHOSTED BY DJ TED D’BIERRE OF LIONFIRE ENTERTAINMENT \nSKUNKTOWN DISTILLERY \n39 STANGL RD\, FLEMINGTON\, NJ
URL:https://www.loveflemington.com/event/skunktown-karaoke-night/2028-04-13/
LOCATION:Skunktown Distillery\, 39 Stangl Rd\, Flemington\, 08822\, United States
CATEGORIES:Contest,Fall Fun
ATTACH;FMTTYPE=image/png:https://www.loveflemington.com/wp-content/uploads/2023/09/night-1.png
END:VEVENT
BEGIN:VEVENT
DTSTART;TZID=America/New_York:20280420T183000
DTEND;TZID=America/New_York:20280420T213000
DTSTAMP:20260424T141008
CREATED:20230914T214829Z
LAST-MODIFIED:20231031T171546Z
UID:10015600-1839868200-1839879000@www.loveflemington.com
SUMMARY:Skunktown Karaoke Night
DESCRIPTION:EVERY THURSDAY\, 6:30 TO 9:30 \nHOSTED BY DJ TED D’BIERRE OF LIONFIRE ENTERTAINMENT \nSKUNKTOWN DISTILLERY \n39 STANGL RD\, FLEMINGTON\, NJ
URL:https://www.loveflemington.com/event/skunktown-karaoke-night/2028-04-20/
LOCATION:Skunktown Distillery\, 39 Stangl Rd\, Flemington\, 08822\, United States
CATEGORIES:Contest,Fall Fun
ATTACH;FMTTYPE=image/png:https://www.loveflemington.com/wp-content/uploads/2023/09/night-1.png
END:VEVENT
BEGIN:VEVENT
DTSTART;TZID=America/New_York:20280427T183000
DTEND;TZID=America/New_York:20280427T213000
DTSTAMP:20260424T141008
CREATED:20230914T214829Z
LAST-MODIFIED:20231031T171546Z
UID:10015601-1840473000-1840483800@www.loveflemington.com
SUMMARY:Skunktown Karaoke Night
DESCRIPTION:EVERY THURSDAY\, 6:30 TO 9:30 \nHOSTED BY DJ TED D’BIERRE OF LIONFIRE ENTERTAINMENT \nSKUNKTOWN DISTILLERY \n39 STANGL RD\, FLEMINGTON\, NJ
URL:https://www.loveflemington.com/event/skunktown-karaoke-night/2028-04-27/
LOCATION:Skunktown Distillery\, 39 Stangl Rd\, Flemington\, 08822\, United States
CATEGORIES:Contest,Fall Fun
ATTACH;FMTTYPE=image/png:https://www.loveflemington.com/wp-content/uploads/2023/09/night-1.png
END:VEVENT
BEGIN:VEVENT
DTSTART;TZID=America/New_York:20280504T183000
DTEND;TZID=America/New_York:20280504T213000
DTSTAMP:20260424T141008
CREATED:20230914T214829Z
LAST-MODIFIED:20231031T171546Z
UID:10015602-1841077800-1841088600@www.loveflemington.com
SUMMARY:Skunktown Karaoke Night
DESCRIPTION:EVERY THURSDAY\, 6:30 TO 9:30 \nHOSTED BY DJ TED D’BIERRE OF LIONFIRE ENTERTAINMENT \nSKUNKTOWN DISTILLERY \n39 STANGL RD\, FLEMINGTON\, NJ
URL:https://www.loveflemington.com/event/skunktown-karaoke-night/2028-05-04/
LOCATION:Skunktown Distillery\, 39 Stangl Rd\, Flemington\, 08822\, United States
CATEGORIES:Contest,Fall Fun
ATTACH;FMTTYPE=image/png:https://www.loveflemington.com/wp-content/uploads/2023/09/night-1.png
END:VEVENT
BEGIN:VEVENT
DTSTART;TZID=America/New_York:20280511T183000
DTEND;TZID=America/New_York:20280511T213000
DTSTAMP:20260424T141008
CREATED:20230914T214829Z
LAST-MODIFIED:20231031T171546Z
UID:10015603-1841682600-1841693400@www.loveflemington.com
SUMMARY:Skunktown Karaoke Night
DESCRIPTION:EVERY THURSDAY\, 6:30 TO 9:30 \nHOSTED BY DJ TED D’BIERRE OF LIONFIRE ENTERTAINMENT \nSKUNKTOWN DISTILLERY \n39 STANGL RD\, FLEMINGTON\, NJ
URL:https://www.loveflemington.com/event/skunktown-karaoke-night/2028-05-11/
LOCATION:Skunktown Distillery\, 39 Stangl Rd\, Flemington\, 08822\, United States
CATEGORIES:Contest,Fall Fun
ATTACH;FMTTYPE=image/png:https://www.loveflemington.com/wp-content/uploads/2023/09/night-1.png
END:VEVENT
BEGIN:VEVENT
DTSTART;TZID=America/New_York:20280518T183000
DTEND;TZID=America/New_York:20280518T213000
DTSTAMP:20260424T141008
CREATED:20230914T214829Z
LAST-MODIFIED:20231031T171546Z
UID:10015604-1842287400-1842298200@www.loveflemington.com
SUMMARY:Skunktown Karaoke Night
DESCRIPTION:EVERY THURSDAY\, 6:30 TO 9:30 \nHOSTED BY DJ TED D’BIERRE OF LIONFIRE ENTERTAINMENT \nSKUNKTOWN DISTILLERY \n39 STANGL RD\, FLEMINGTON\, NJ
URL:https://www.loveflemington.com/event/skunktown-karaoke-night/2028-05-18/
LOCATION:Skunktown Distillery\, 39 Stangl Rd\, Flemington\, 08822\, United States
CATEGORIES:Contest,Fall Fun
ATTACH;FMTTYPE=image/png:https://www.loveflemington.com/wp-content/uploads/2023/09/night-1.png
END:VEVENT
BEGIN:VEVENT
DTSTART;TZID=America/New_York:20280525T183000
DTEND;TZID=America/New_York:20280525T213000
DTSTAMP:20260424T141008
CREATED:20230914T214829Z
LAST-MODIFIED:20231031T171546Z
UID:10015605-1842892200-1842903000@www.loveflemington.com
SUMMARY:Skunktown Karaoke Night
DESCRIPTION:EVERY THURSDAY\, 6:30 TO 9:30 \nHOSTED BY DJ TED D’BIERRE OF LIONFIRE ENTERTAINMENT \nSKUNKTOWN DISTILLERY \n39 STANGL RD\, FLEMINGTON\, NJ
URL:https://www.loveflemington.com/event/skunktown-karaoke-night/2028-05-25/
LOCATION:Skunktown Distillery\, 39 Stangl Rd\, Flemington\, 08822\, United States
CATEGORIES:Contest,Fall Fun
ATTACH;FMTTYPE=image/png:https://www.loveflemington.com/wp-content/uploads/2023/09/night-1.png
END:VEVENT
BEGIN:VEVENT
DTSTART;TZID=America/New_York:20280601T183000
DTEND;TZID=America/New_York:20280601T213000
DTSTAMP:20260424T141008
CREATED:20230914T214829Z
LAST-MODIFIED:20231031T171546Z
UID:10015606-1843497000-1843507800@www.loveflemington.com
SUMMARY:Skunktown Karaoke Night
DESCRIPTION:EVERY THURSDAY\, 6:30 TO 9:30 \nHOSTED BY DJ TED D’BIERRE OF LIONFIRE ENTERTAINMENT \nSKUNKTOWN DISTILLERY \n39 STANGL RD\, FLEMINGTON\, NJ
URL:https://www.loveflemington.com/event/skunktown-karaoke-night/2028-06-01/
LOCATION:Skunktown Distillery\, 39 Stangl Rd\, Flemington\, 08822\, United States
CATEGORIES:Contest,Fall Fun
ATTACH;FMTTYPE=image/png:https://www.loveflemington.com/wp-content/uploads/2023/09/night-1.png
END:VEVENT
BEGIN:VEVENT
DTSTART;TZID=America/New_York:20280608T183000
DTEND;TZID=America/New_York:20280608T213000
DTSTAMP:20260424T141008
CREATED:20230914T214829Z
LAST-MODIFIED:20231031T171546Z
UID:10015607-1844101800-1844112600@www.loveflemington.com
SUMMARY:Skunktown Karaoke Night
DESCRIPTION:EVERY THURSDAY\, 6:30 TO 9:30 \nHOSTED BY DJ TED D’BIERRE OF LIONFIRE ENTERTAINMENT \nSKUNKTOWN DISTILLERY \n39 STANGL RD\, FLEMINGTON\, NJ
URL:https://www.loveflemington.com/event/skunktown-karaoke-night/2028-06-08/
LOCATION:Skunktown Distillery\, 39 Stangl Rd\, Flemington\, 08822\, United States
CATEGORIES:Contest,Fall Fun
ATTACH;FMTTYPE=image/png:https://www.loveflemington.com/wp-content/uploads/2023/09/night-1.png
END:VEVENT
BEGIN:VEVENT
DTSTART;TZID=America/New_York:20280615T183000
DTEND;TZID=America/New_York:20280615T213000
DTSTAMP:20260424T141008
CREATED:20230914T214829Z
LAST-MODIFIED:20231031T171546Z
UID:10015608-1844706600-1844717400@www.loveflemington.com
SUMMARY:Skunktown Karaoke Night
DESCRIPTION:EVERY THURSDAY\, 6:30 TO 9:30 \nHOSTED BY DJ TED D’BIERRE OF LIONFIRE ENTERTAINMENT \nSKUNKTOWN DISTILLERY \n39 STANGL RD\, FLEMINGTON\, NJ
URL:https://www.loveflemington.com/event/skunktown-karaoke-night/2028-06-15/
LOCATION:Skunktown Distillery\, 39 Stangl Rd\, Flemington\, 08822\, United States
CATEGORIES:Contest,Fall Fun
ATTACH;FMTTYPE=image/png:https://www.loveflemington.com/wp-content/uploads/2023/09/night-1.png
END:VEVENT
BEGIN:VEVENT
DTSTART;TZID=America/New_York:20280622T183000
DTEND;TZID=America/New_York:20280622T213000
DTSTAMP:20260424T141008
CREATED:20230914T214829Z
LAST-MODIFIED:20231031T171546Z
UID:10015609-1845311400-1845322200@www.loveflemington.com
SUMMARY:Skunktown Karaoke Night
DESCRIPTION:EVERY THURSDAY\, 6:30 TO 9:30 \nHOSTED BY DJ TED D’BIERRE OF LIONFIRE ENTERTAINMENT \nSKUNKTOWN DISTILLERY \n39 STANGL RD\, FLEMINGTON\, NJ
URL:https://www.loveflemington.com/event/skunktown-karaoke-night/2028-06-22/
LOCATION:Skunktown Distillery\, 39 Stangl Rd\, Flemington\, 08822\, United States
CATEGORIES:Contest,Fall Fun
ATTACH;FMTTYPE=image/png:https://www.loveflemington.com/wp-content/uploads/2023/09/night-1.png
END:VEVENT
BEGIN:VEVENT
DTSTART;TZID=America/New_York:20280629T183000
DTEND;TZID=America/New_York:20280629T213000
DTSTAMP:20260424T141008
CREATED:20230914T214829Z
LAST-MODIFIED:20231031T171546Z
UID:10015610-1845916200-1845927000@www.loveflemington.com
SUMMARY:Skunktown Karaoke Night
DESCRIPTION:EVERY THURSDAY\, 6:30 TO 9:30 \nHOSTED BY DJ TED D’BIERRE OF LIONFIRE ENTERTAINMENT \nSKUNKTOWN DISTILLERY \n39 STANGL RD\, FLEMINGTON\, NJ
URL:https://www.loveflemington.com/event/skunktown-karaoke-night/2028-06-29/
LOCATION:Skunktown Distillery\, 39 Stangl Rd\, Flemington\, 08822\, United States
CATEGORIES:Contest,Fall Fun
ATTACH;FMTTYPE=image/png:https://www.loveflemington.com/wp-content/uploads/2023/09/night-1.png
END:VEVENT
BEGIN:VEVENT
DTSTART;TZID=America/New_York:20280706T183000
DTEND;TZID=America/New_York:20280706T213000
DTSTAMP:20260424T141008
CREATED:20230914T214829Z
LAST-MODIFIED:20231031T171546Z
UID:10015611-1846521000-1846531800@www.loveflemington.com
SUMMARY:Skunktown Karaoke Night
DESCRIPTION:EVERY THURSDAY\, 6:30 TO 9:30 \nHOSTED BY DJ TED D’BIERRE OF LIONFIRE ENTERTAINMENT \nSKUNKTOWN DISTILLERY \n39 STANGL RD\, FLEMINGTON\, NJ
URL:https://www.loveflemington.com/event/skunktown-karaoke-night/2028-07-06/
LOCATION:Skunktown Distillery\, 39 Stangl Rd\, Flemington\, 08822\, United States
CATEGORIES:Contest,Fall Fun
ATTACH;FMTTYPE=image/png:https://www.loveflemington.com/wp-content/uploads/2023/09/night-1.png
END:VEVENT
BEGIN:VEVENT
DTSTART;TZID=America/New_York:20280713T183000
DTEND;TZID=America/New_York:20280713T213000
DTSTAMP:20260424T141008
CREATED:20230914T214829Z
LAST-MODIFIED:20231031T171546Z
UID:10015612-1847125800-1847136600@www.loveflemington.com
SUMMARY:Skunktown Karaoke Night
DESCRIPTION:EVERY THURSDAY\, 6:30 TO 9:30 \nHOSTED BY DJ TED D’BIERRE OF LIONFIRE ENTERTAINMENT \nSKUNKTOWN DISTILLERY \n39 STANGL RD\, FLEMINGTON\, NJ
URL:https://www.loveflemington.com/event/skunktown-karaoke-night/2028-07-13/
LOCATION:Skunktown Distillery\, 39 Stangl Rd\, Flemington\, 08822\, United States
CATEGORIES:Contest,Fall Fun
ATTACH;FMTTYPE=image/png:https://www.loveflemington.com/wp-content/uploads/2023/09/night-1.png
END:VEVENT
BEGIN:VEVENT
DTSTART;TZID=America/New_York:20280720T183000
DTEND;TZID=America/New_York:20280720T213000
DTSTAMP:20260424T141008
CREATED:20230914T214829Z
LAST-MODIFIED:20231031T171546Z
UID:10015613-1847730600-1847741400@www.loveflemington.com
SUMMARY:Skunktown Karaoke Night
DESCRIPTION:EVERY THURSDAY\, 6:30 TO 9:30 \nHOSTED BY DJ TED D’BIERRE OF LIONFIRE ENTERTAINMENT \nSKUNKTOWN DISTILLERY \n39 STANGL RD\, FLEMINGTON\, NJ
URL:https://www.loveflemington.com/event/skunktown-karaoke-night/2028-07-20/
LOCATION:Skunktown Distillery\, 39 Stangl Rd\, Flemington\, 08822\, United States
CATEGORIES:Contest,Fall Fun
ATTACH;FMTTYPE=image/png:https://www.loveflemington.com/wp-content/uploads/2023/09/night-1.png
END:VEVENT
BEGIN:VEVENT
DTSTART;TZID=America/New_York:20280727T183000
DTEND;TZID=America/New_York:20280727T213000
DTSTAMP:20260424T141008
CREATED:20230914T214829Z
LAST-MODIFIED:20231031T171546Z
UID:10015614-1848335400-1848346200@www.loveflemington.com
SUMMARY:Skunktown Karaoke Night
DESCRIPTION:EVERY THURSDAY\, 6:30 TO 9:30 \nHOSTED BY DJ TED D’BIERRE OF LIONFIRE ENTERTAINMENT \nSKUNKTOWN DISTILLERY \n39 STANGL RD\, FLEMINGTON\, NJ
URL:https://www.loveflemington.com/event/skunktown-karaoke-night/2028-07-27/
LOCATION:Skunktown Distillery\, 39 Stangl Rd\, Flemington\, 08822\, United States
CATEGORIES:Contest,Fall Fun
ATTACH;FMTTYPE=image/png:https://www.loveflemington.com/wp-content/uploads/2023/09/night-1.png
END:VEVENT
BEGIN:VEVENT
DTSTART;TZID=America/New_York:20280803T183000
DTEND;TZID=America/New_York:20280803T213000
DTSTAMP:20260424T141008
CREATED:20230914T214829Z
LAST-MODIFIED:20231031T171546Z
UID:10015615-1848940200-1848951000@www.loveflemington.com
SUMMARY:Skunktown Karaoke Night
DESCRIPTION:EVERY THURSDAY\, 6:30 TO 9:30 \nHOSTED BY DJ TED D’BIERRE OF LIONFIRE ENTERTAINMENT \nSKUNKTOWN DISTILLERY \n39 STANGL RD\, FLEMINGTON\, NJ
URL:https://www.loveflemington.com/event/skunktown-karaoke-night/2028-08-03/
LOCATION:Skunktown Distillery\, 39 Stangl Rd\, Flemington\, 08822\, United States
CATEGORIES:Contest,Fall Fun
ATTACH;FMTTYPE=image/png:https://www.loveflemington.com/wp-content/uploads/2023/09/night-1.png
END:VEVENT
BEGIN:VEVENT
DTSTART;TZID=America/New_York:20280810T183000
DTEND;TZID=America/New_York:20280810T213000
DTSTAMP:20260424T141008
CREATED:20230914T214829Z
LAST-MODIFIED:20231031T171546Z
UID:10015616-1849545000-1849555800@www.loveflemington.com
SUMMARY:Skunktown Karaoke Night
DESCRIPTION:EVERY THURSDAY\, 6:30 TO 9:30 \nHOSTED BY DJ TED D’BIERRE OF LIONFIRE ENTERTAINMENT \nSKUNKTOWN DISTILLERY \n39 STANGL RD\, FLEMINGTON\, NJ
URL:https://www.loveflemington.com/event/skunktown-karaoke-night/2028-08-10/
LOCATION:Skunktown Distillery\, 39 Stangl Rd\, Flemington\, 08822\, United States
CATEGORIES:Contest,Fall Fun
ATTACH;FMTTYPE=image/png:https://www.loveflemington.com/wp-content/uploads/2023/09/night-1.png
END:VEVENT
END:VCALENDAR