BEGIN:VCALENDAR
VERSION:2.0
PRODID:-//Love Flemington - ECPv6.15.18//NONSGML v1.0//EN
CALSCALE:GREGORIAN
METHOD:PUBLISH
X-ORIGINAL-URL:https://www.loveflemington.com
X-WR-CALDESC:Events for Love Flemington
REFRESH-INTERVAL;VALUE=DURATION:PT1H
X-Robots-Tag:noindex
X-PUBLISHED-TTL:PT1H
BEGIN:VTIMEZONE
TZID:America/New_York
BEGIN:DAYLIGHT
TZOFFSETFROM:-0500
TZOFFSETTO:-0400
TZNAME:EDT
DTSTART:20260308T070000
END:DAYLIGHT
BEGIN:STANDARD
TZOFFSETFROM:-0400
TZOFFSETTO:-0500
TZNAME:EST
DTSTART:20261101T060000
END:STANDARD
BEGIN:DAYLIGHT
TZOFFSETFROM:-0500
TZOFFSETTO:-0400
TZNAME:EDT
DTSTART:20270314T070000
END:DAYLIGHT
BEGIN:STANDARD
TZOFFSETFROM:-0400
TZOFFSETTO:-0500
TZNAME:EST
DTSTART:20271107T060000
END:STANDARD
BEGIN:DAYLIGHT
TZOFFSETFROM:-0500
TZOFFSETTO:-0400
TZNAME:EDT
DTSTART:20280312T070000
END:DAYLIGHT
BEGIN:STANDARD
TZOFFSETFROM:-0400
TZOFFSETTO:-0500
TZNAME:EST
DTSTART:20281105T060000
END:STANDARD
BEGIN:DAYLIGHT
TZOFFSETFROM:-0500
TZOFFSETTO:-0400
TZNAME:EDT
DTSTART:20290311T070000
END:DAYLIGHT
BEGIN:STANDARD
TZOFFSETFROM:-0400
TZOFFSETTO:-0500
TZNAME:EST
DTSTART:20291104T060000
END:STANDARD
END:VTIMEZONE
BEGIN:VEVENT
DTSTART;TZID=America/New_York:20270624T183000
DTEND;TZID=America/New_York:20270624T213000
DTSTAMP:20260424T123518
CREATED:20230914T214829Z
LAST-MODIFIED:20231031T171546Z
UID:10015557-1813861800-1813872600@www.loveflemington.com
SUMMARY:Skunktown Karaoke Night
DESCRIPTION:EVERY THURSDAY\, 6:30 TO 9:30 \nHOSTED BY DJ TED D’BIERRE OF LIONFIRE ENTERTAINMENT \nSKUNKTOWN DISTILLERY \n39 STANGL RD\, FLEMINGTON\, NJ
URL:https://www.loveflemington.com/event/skunktown-karaoke-night/2027-06-24/
LOCATION:Skunktown Distillery\, 39 Stangl Rd\, Flemington\, 08822\, United States
CATEGORIES:Contest,Fall Fun
ATTACH;FMTTYPE=image/png:https://www.loveflemington.com/wp-content/uploads/2023/09/night-1.png
END:VEVENT
BEGIN:VEVENT
DTSTART;TZID=America/New_York:20270701T183000
DTEND;TZID=America/New_York:20270701T213000
DTSTAMP:20260424T123518
CREATED:20230914T214829Z
LAST-MODIFIED:20231031T171546Z
UID:10015558-1814466600-1814477400@www.loveflemington.com
SUMMARY:Skunktown Karaoke Night
DESCRIPTION:EVERY THURSDAY\, 6:30 TO 9:30 \nHOSTED BY DJ TED D’BIERRE OF LIONFIRE ENTERTAINMENT \nSKUNKTOWN DISTILLERY \n39 STANGL RD\, FLEMINGTON\, NJ
URL:https://www.loveflemington.com/event/skunktown-karaoke-night/2027-07-01/
LOCATION:Skunktown Distillery\, 39 Stangl Rd\, Flemington\, 08822\, United States
CATEGORIES:Contest,Fall Fun
ATTACH;FMTTYPE=image/png:https://www.loveflemington.com/wp-content/uploads/2023/09/night-1.png
END:VEVENT
BEGIN:VEVENT
DTSTART;TZID=America/New_York:20270708T183000
DTEND;TZID=America/New_York:20270708T213000
DTSTAMP:20260424T123518
CREATED:20230914T214829Z
LAST-MODIFIED:20231031T171546Z
UID:10015559-1815071400-1815082200@www.loveflemington.com
SUMMARY:Skunktown Karaoke Night
DESCRIPTION:EVERY THURSDAY\, 6:30 TO 9:30 \nHOSTED BY DJ TED D’BIERRE OF LIONFIRE ENTERTAINMENT \nSKUNKTOWN DISTILLERY \n39 STANGL RD\, FLEMINGTON\, NJ
URL:https://www.loveflemington.com/event/skunktown-karaoke-night/2027-07-08/
LOCATION:Skunktown Distillery\, 39 Stangl Rd\, Flemington\, 08822\, United States
CATEGORIES:Contest,Fall Fun
ATTACH;FMTTYPE=image/png:https://www.loveflemington.com/wp-content/uploads/2023/09/night-1.png
END:VEVENT
BEGIN:VEVENT
DTSTART;TZID=America/New_York:20270715T183000
DTEND;TZID=America/New_York:20270715T213000
DTSTAMP:20260424T123518
CREATED:20230914T214829Z
LAST-MODIFIED:20231031T171546Z
UID:10015560-1815676200-1815687000@www.loveflemington.com
SUMMARY:Skunktown Karaoke Night
DESCRIPTION:EVERY THURSDAY\, 6:30 TO 9:30 \nHOSTED BY DJ TED D’BIERRE OF LIONFIRE ENTERTAINMENT \nSKUNKTOWN DISTILLERY \n39 STANGL RD\, FLEMINGTON\, NJ
URL:https://www.loveflemington.com/event/skunktown-karaoke-night/2027-07-15/
LOCATION:Skunktown Distillery\, 39 Stangl Rd\, Flemington\, 08822\, United States
CATEGORIES:Contest,Fall Fun
ATTACH;FMTTYPE=image/png:https://www.loveflemington.com/wp-content/uploads/2023/09/night-1.png
END:VEVENT
BEGIN:VEVENT
DTSTART;TZID=America/New_York:20270722T183000
DTEND;TZID=America/New_York:20270722T213000
DTSTAMP:20260424T123518
CREATED:20230914T214829Z
LAST-MODIFIED:20231031T171546Z
UID:10015561-1816281000-1816291800@www.loveflemington.com
SUMMARY:Skunktown Karaoke Night
DESCRIPTION:EVERY THURSDAY\, 6:30 TO 9:30 \nHOSTED BY DJ TED D’BIERRE OF LIONFIRE ENTERTAINMENT \nSKUNKTOWN DISTILLERY \n39 STANGL RD\, FLEMINGTON\, NJ
URL:https://www.loveflemington.com/event/skunktown-karaoke-night/2027-07-22/
LOCATION:Skunktown Distillery\, 39 Stangl Rd\, Flemington\, 08822\, United States
CATEGORIES:Contest,Fall Fun
ATTACH;FMTTYPE=image/png:https://www.loveflemington.com/wp-content/uploads/2023/09/night-1.png
END:VEVENT
BEGIN:VEVENT
DTSTART;TZID=America/New_York:20270729T183000
DTEND;TZID=America/New_York:20270729T213000
DTSTAMP:20260424T123518
CREATED:20230914T214829Z
LAST-MODIFIED:20231031T171546Z
UID:10015562-1816885800-1816896600@www.loveflemington.com
SUMMARY:Skunktown Karaoke Night
DESCRIPTION:EVERY THURSDAY\, 6:30 TO 9:30 \nHOSTED BY DJ TED D’BIERRE OF LIONFIRE ENTERTAINMENT \nSKUNKTOWN DISTILLERY \n39 STANGL RD\, FLEMINGTON\, NJ
URL:https://www.loveflemington.com/event/skunktown-karaoke-night/2027-07-29/
LOCATION:Skunktown Distillery\, 39 Stangl Rd\, Flemington\, 08822\, United States
CATEGORIES:Contest,Fall Fun
ATTACH;FMTTYPE=image/png:https://www.loveflemington.com/wp-content/uploads/2023/09/night-1.png
END:VEVENT
BEGIN:VEVENT
DTSTART;TZID=America/New_York:20270805T183000
DTEND;TZID=America/New_York:20270805T213000
DTSTAMP:20260424T123518
CREATED:20230914T214829Z
LAST-MODIFIED:20231031T171546Z
UID:10015563-1817490600-1817501400@www.loveflemington.com
SUMMARY:Skunktown Karaoke Night
DESCRIPTION:EVERY THURSDAY\, 6:30 TO 9:30 \nHOSTED BY DJ TED D’BIERRE OF LIONFIRE ENTERTAINMENT \nSKUNKTOWN DISTILLERY \n39 STANGL RD\, FLEMINGTON\, NJ
URL:https://www.loveflemington.com/event/skunktown-karaoke-night/2027-08-05/
LOCATION:Skunktown Distillery\, 39 Stangl Rd\, Flemington\, 08822\, United States
CATEGORIES:Contest,Fall Fun
ATTACH;FMTTYPE=image/png:https://www.loveflemington.com/wp-content/uploads/2023/09/night-1.png
END:VEVENT
BEGIN:VEVENT
DTSTART;TZID=America/New_York:20270812T183000
DTEND;TZID=America/New_York:20270812T213000
DTSTAMP:20260424T123518
CREATED:20230914T214829Z
LAST-MODIFIED:20231031T171546Z
UID:10015564-1818095400-1818106200@www.loveflemington.com
SUMMARY:Skunktown Karaoke Night
DESCRIPTION:EVERY THURSDAY\, 6:30 TO 9:30 \nHOSTED BY DJ TED D’BIERRE OF LIONFIRE ENTERTAINMENT \nSKUNKTOWN DISTILLERY \n39 STANGL RD\, FLEMINGTON\, NJ
URL:https://www.loveflemington.com/event/skunktown-karaoke-night/2027-08-12/
LOCATION:Skunktown Distillery\, 39 Stangl Rd\, Flemington\, 08822\, United States
CATEGORIES:Contest,Fall Fun
ATTACH;FMTTYPE=image/png:https://www.loveflemington.com/wp-content/uploads/2023/09/night-1.png
END:VEVENT
BEGIN:VEVENT
DTSTART;TZID=America/New_York:20270819T183000
DTEND;TZID=America/New_York:20270819T213000
DTSTAMP:20260424T123518
CREATED:20230914T214829Z
LAST-MODIFIED:20231031T171546Z
UID:10015565-1818700200-1818711000@www.loveflemington.com
SUMMARY:Skunktown Karaoke Night
DESCRIPTION:EVERY THURSDAY\, 6:30 TO 9:30 \nHOSTED BY DJ TED D’BIERRE OF LIONFIRE ENTERTAINMENT \nSKUNKTOWN DISTILLERY \n39 STANGL RD\, FLEMINGTON\, NJ
URL:https://www.loveflemington.com/event/skunktown-karaoke-night/2027-08-19/
LOCATION:Skunktown Distillery\, 39 Stangl Rd\, Flemington\, 08822\, United States
CATEGORIES:Contest,Fall Fun
ATTACH;FMTTYPE=image/png:https://www.loveflemington.com/wp-content/uploads/2023/09/night-1.png
END:VEVENT
BEGIN:VEVENT
DTSTART;TZID=America/New_York:20270826T183000
DTEND;TZID=America/New_York:20270826T213000
DTSTAMP:20260424T123518
CREATED:20230914T214829Z
LAST-MODIFIED:20231031T171546Z
UID:10015566-1819305000-1819315800@www.loveflemington.com
SUMMARY:Skunktown Karaoke Night
DESCRIPTION:EVERY THURSDAY\, 6:30 TO 9:30 \nHOSTED BY DJ TED D’BIERRE OF LIONFIRE ENTERTAINMENT \nSKUNKTOWN DISTILLERY \n39 STANGL RD\, FLEMINGTON\, NJ
URL:https://www.loveflemington.com/event/skunktown-karaoke-night/2027-08-26/
LOCATION:Skunktown Distillery\, 39 Stangl Rd\, Flemington\, 08822\, United States
CATEGORIES:Contest,Fall Fun
ATTACH;FMTTYPE=image/png:https://www.loveflemington.com/wp-content/uploads/2023/09/night-1.png
END:VEVENT
BEGIN:VEVENT
DTSTART;TZID=America/New_York:20270902T183000
DTEND;TZID=America/New_York:20270902T213000
DTSTAMP:20260424T123518
CREATED:20230914T214829Z
LAST-MODIFIED:20231031T171546Z
UID:10015567-1819909800-1819920600@www.loveflemington.com
SUMMARY:Skunktown Karaoke Night
DESCRIPTION:EVERY THURSDAY\, 6:30 TO 9:30 \nHOSTED BY DJ TED D’BIERRE OF LIONFIRE ENTERTAINMENT \nSKUNKTOWN DISTILLERY \n39 STANGL RD\, FLEMINGTON\, NJ
URL:https://www.loveflemington.com/event/skunktown-karaoke-night/2027-09-02/
LOCATION:Skunktown Distillery\, 39 Stangl Rd\, Flemington\, 08822\, United States
CATEGORIES:Contest,Fall Fun
ATTACH;FMTTYPE=image/png:https://www.loveflemington.com/wp-content/uploads/2023/09/night-1.png
END:VEVENT
BEGIN:VEVENT
DTSTART;TZID=America/New_York:20270909T183000
DTEND;TZID=America/New_York:20270909T213000
DTSTAMP:20260424T123518
CREATED:20230914T214829Z
LAST-MODIFIED:20231031T171546Z
UID:10015568-1820514600-1820525400@www.loveflemington.com
SUMMARY:Skunktown Karaoke Night
DESCRIPTION:EVERY THURSDAY\, 6:30 TO 9:30 \nHOSTED BY DJ TED D’BIERRE OF LIONFIRE ENTERTAINMENT \nSKUNKTOWN DISTILLERY \n39 STANGL RD\, FLEMINGTON\, NJ
URL:https://www.loveflemington.com/event/skunktown-karaoke-night/2027-09-09/
LOCATION:Skunktown Distillery\, 39 Stangl Rd\, Flemington\, 08822\, United States
CATEGORIES:Contest,Fall Fun
ATTACH;FMTTYPE=image/png:https://www.loveflemington.com/wp-content/uploads/2023/09/night-1.png
END:VEVENT
BEGIN:VEVENT
DTSTART;TZID=America/New_York:20270916T183000
DTEND;TZID=America/New_York:20270916T213000
DTSTAMP:20260424T123518
CREATED:20230914T214829Z
LAST-MODIFIED:20231031T171546Z
UID:10015569-1821119400-1821130200@www.loveflemington.com
SUMMARY:Skunktown Karaoke Night
DESCRIPTION:EVERY THURSDAY\, 6:30 TO 9:30 \nHOSTED BY DJ TED D’BIERRE OF LIONFIRE ENTERTAINMENT \nSKUNKTOWN DISTILLERY \n39 STANGL RD\, FLEMINGTON\, NJ
URL:https://www.loveflemington.com/event/skunktown-karaoke-night/2027-09-16/
LOCATION:Skunktown Distillery\, 39 Stangl Rd\, Flemington\, 08822\, United States
CATEGORIES:Contest,Fall Fun
ATTACH;FMTTYPE=image/png:https://www.loveflemington.com/wp-content/uploads/2023/09/night-1.png
END:VEVENT
BEGIN:VEVENT
DTSTART;TZID=America/New_York:20270923T183000
DTEND;TZID=America/New_York:20270923T213000
DTSTAMP:20260424T123518
CREATED:20230914T214829Z
LAST-MODIFIED:20231031T171546Z
UID:10015570-1821724200-1821735000@www.loveflemington.com
SUMMARY:Skunktown Karaoke Night
DESCRIPTION:EVERY THURSDAY\, 6:30 TO 9:30 \nHOSTED BY DJ TED D’BIERRE OF LIONFIRE ENTERTAINMENT \nSKUNKTOWN DISTILLERY \n39 STANGL RD\, FLEMINGTON\, NJ
URL:https://www.loveflemington.com/event/skunktown-karaoke-night/2027-09-23/
LOCATION:Skunktown Distillery\, 39 Stangl Rd\, Flemington\, 08822\, United States
CATEGORIES:Contest,Fall Fun
ATTACH;FMTTYPE=image/png:https://www.loveflemington.com/wp-content/uploads/2023/09/night-1.png
END:VEVENT
BEGIN:VEVENT
DTSTART;TZID=America/New_York:20270930T183000
DTEND;TZID=America/New_York:20270930T213000
DTSTAMP:20260424T123518
CREATED:20230914T214829Z
LAST-MODIFIED:20231031T171546Z
UID:10015571-1822329000-1822339800@www.loveflemington.com
SUMMARY:Skunktown Karaoke Night
DESCRIPTION:EVERY THURSDAY\, 6:30 TO 9:30 \nHOSTED BY DJ TED D’BIERRE OF LIONFIRE ENTERTAINMENT \nSKUNKTOWN DISTILLERY \n39 STANGL RD\, FLEMINGTON\, NJ
URL:https://www.loveflemington.com/event/skunktown-karaoke-night/2027-09-30/
LOCATION:Skunktown Distillery\, 39 Stangl Rd\, Flemington\, 08822\, United States
CATEGORIES:Contest,Fall Fun
ATTACH;FMTTYPE=image/png:https://www.loveflemington.com/wp-content/uploads/2023/09/night-1.png
END:VEVENT
BEGIN:VEVENT
DTSTART;TZID=America/New_York:20271007T183000
DTEND;TZID=America/New_York:20271007T213000
DTSTAMP:20260424T123518
CREATED:20230914T214829Z
LAST-MODIFIED:20231031T171546Z
UID:10015572-1822933800-1822944600@www.loveflemington.com
SUMMARY:Skunktown Karaoke Night
DESCRIPTION:EVERY THURSDAY\, 6:30 TO 9:30 \nHOSTED BY DJ TED D’BIERRE OF LIONFIRE ENTERTAINMENT \nSKUNKTOWN DISTILLERY \n39 STANGL RD\, FLEMINGTON\, NJ
URL:https://www.loveflemington.com/event/skunktown-karaoke-night/2027-10-07/
LOCATION:Skunktown Distillery\, 39 Stangl Rd\, Flemington\, 08822\, United States
CATEGORIES:Contest,Fall Fun
ATTACH;FMTTYPE=image/png:https://www.loveflemington.com/wp-content/uploads/2023/09/night-1.png
END:VEVENT
BEGIN:VEVENT
DTSTART;TZID=America/New_York:20271014T183000
DTEND;TZID=America/New_York:20271014T213000
DTSTAMP:20260424T123518
CREATED:20230914T214829Z
LAST-MODIFIED:20231031T171546Z
UID:10015573-1823538600-1823549400@www.loveflemington.com
SUMMARY:Skunktown Karaoke Night
DESCRIPTION:EVERY THURSDAY\, 6:30 TO 9:30 \nHOSTED BY DJ TED D’BIERRE OF LIONFIRE ENTERTAINMENT \nSKUNKTOWN DISTILLERY \n39 STANGL RD\, FLEMINGTON\, NJ
URL:https://www.loveflemington.com/event/skunktown-karaoke-night/2027-10-14/
LOCATION:Skunktown Distillery\, 39 Stangl Rd\, Flemington\, 08822\, United States
CATEGORIES:Contest,Fall Fun
ATTACH;FMTTYPE=image/png:https://www.loveflemington.com/wp-content/uploads/2023/09/night-1.png
END:VEVENT
BEGIN:VEVENT
DTSTART;TZID=America/New_York:20271021T183000
DTEND;TZID=America/New_York:20271021T213000
DTSTAMP:20260424T123518
CREATED:20230914T214829Z
LAST-MODIFIED:20231031T171546Z
UID:10015574-1824143400-1824154200@www.loveflemington.com
SUMMARY:Skunktown Karaoke Night
DESCRIPTION:EVERY THURSDAY\, 6:30 TO 9:30 \nHOSTED BY DJ TED D’BIERRE OF LIONFIRE ENTERTAINMENT \nSKUNKTOWN DISTILLERY \n39 STANGL RD\, FLEMINGTON\, NJ
URL:https://www.loveflemington.com/event/skunktown-karaoke-night/2027-10-21/
LOCATION:Skunktown Distillery\, 39 Stangl Rd\, Flemington\, 08822\, United States
CATEGORIES:Contest,Fall Fun
ATTACH;FMTTYPE=image/png:https://www.loveflemington.com/wp-content/uploads/2023/09/night-1.png
END:VEVENT
BEGIN:VEVENT
DTSTART;TZID=America/New_York:20271028T183000
DTEND;TZID=America/New_York:20271028T213000
DTSTAMP:20260424T123518
CREATED:20230914T214829Z
LAST-MODIFIED:20231031T171546Z
UID:10015575-1824748200-1824759000@www.loveflemington.com
SUMMARY:Skunktown Karaoke Night
DESCRIPTION:EVERY THURSDAY\, 6:30 TO 9:30 \nHOSTED BY DJ TED D’BIERRE OF LIONFIRE ENTERTAINMENT \nSKUNKTOWN DISTILLERY \n39 STANGL RD\, FLEMINGTON\, NJ
URL:https://www.loveflemington.com/event/skunktown-karaoke-night/2027-10-28/
LOCATION:Skunktown Distillery\, 39 Stangl Rd\, Flemington\, 08822\, United States
CATEGORIES:Contest,Fall Fun
ATTACH;FMTTYPE=image/png:https://www.loveflemington.com/wp-content/uploads/2023/09/night-1.png
END:VEVENT
BEGIN:VEVENT
DTSTART;TZID=America/New_York:20271104T183000
DTEND;TZID=America/New_York:20271104T213000
DTSTAMP:20260424T123518
CREATED:20230914T214829Z
LAST-MODIFIED:20231031T171546Z
UID:10015576-1825353000-1825363800@www.loveflemington.com
SUMMARY:Skunktown Karaoke Night
DESCRIPTION:EVERY THURSDAY\, 6:30 TO 9:30 \nHOSTED BY DJ TED D’BIERRE OF LIONFIRE ENTERTAINMENT \nSKUNKTOWN DISTILLERY \n39 STANGL RD\, FLEMINGTON\, NJ
URL:https://www.loveflemington.com/event/skunktown-karaoke-night/2027-11-04/
LOCATION:Skunktown Distillery\, 39 Stangl Rd\, Flemington\, 08822\, United States
CATEGORIES:Contest,Fall Fun
ATTACH;FMTTYPE=image/png:https://www.loveflemington.com/wp-content/uploads/2023/09/night-1.png
END:VEVENT
BEGIN:VEVENT
DTSTART;TZID=America/New_York:20271111T183000
DTEND;TZID=America/New_York:20271111T213000
DTSTAMP:20260424T123518
CREATED:20230914T214829Z
LAST-MODIFIED:20231031T171546Z
UID:10015577-1825957800-1825968600@www.loveflemington.com
SUMMARY:Skunktown Karaoke Night
DESCRIPTION:EVERY THURSDAY\, 6:30 TO 9:30 \nHOSTED BY DJ TED D’BIERRE OF LIONFIRE ENTERTAINMENT \nSKUNKTOWN DISTILLERY \n39 STANGL RD\, FLEMINGTON\, NJ
URL:https://www.loveflemington.com/event/skunktown-karaoke-night/2027-11-11/
LOCATION:Skunktown Distillery\, 39 Stangl Rd\, Flemington\, 08822\, United States
CATEGORIES:Contest,Fall Fun
ATTACH;FMTTYPE=image/png:https://www.loveflemington.com/wp-content/uploads/2023/09/night-1.png
END:VEVENT
BEGIN:VEVENT
DTSTART;TZID=America/New_York:20271118T183000
DTEND;TZID=America/New_York:20271118T213000
DTSTAMP:20260424T123518
CREATED:20230914T214829Z
LAST-MODIFIED:20231031T171546Z
UID:10015578-1826562600-1826573400@www.loveflemington.com
SUMMARY:Skunktown Karaoke Night
DESCRIPTION:EVERY THURSDAY\, 6:30 TO 9:30 \nHOSTED BY DJ TED D’BIERRE OF LIONFIRE ENTERTAINMENT \nSKUNKTOWN DISTILLERY \n39 STANGL RD\, FLEMINGTON\, NJ
URL:https://www.loveflemington.com/event/skunktown-karaoke-night/2027-11-18/
LOCATION:Skunktown Distillery\, 39 Stangl Rd\, Flemington\, 08822\, United States
CATEGORIES:Contest,Fall Fun
ATTACH;FMTTYPE=image/png:https://www.loveflemington.com/wp-content/uploads/2023/09/night-1.png
END:VEVENT
BEGIN:VEVENT
DTSTART;TZID=America/New_York:20271125T183000
DTEND;TZID=America/New_York:20271125T213000
DTSTAMP:20260424T123518
CREATED:20230914T214829Z
LAST-MODIFIED:20231031T171546Z
UID:10015579-1827167400-1827178200@www.loveflemington.com
SUMMARY:Skunktown Karaoke Night
DESCRIPTION:EVERY THURSDAY\, 6:30 TO 9:30 \nHOSTED BY DJ TED D’BIERRE OF LIONFIRE ENTERTAINMENT \nSKUNKTOWN DISTILLERY \n39 STANGL RD\, FLEMINGTON\, NJ
URL:https://www.loveflemington.com/event/skunktown-karaoke-night/2027-11-25/
LOCATION:Skunktown Distillery\, 39 Stangl Rd\, Flemington\, 08822\, United States
CATEGORIES:Contest,Fall Fun
ATTACH;FMTTYPE=image/png:https://www.loveflemington.com/wp-content/uploads/2023/09/night-1.png
END:VEVENT
BEGIN:VEVENT
DTSTART;TZID=America/New_York:20271202T183000
DTEND;TZID=America/New_York:20271202T213000
DTSTAMP:20260424T123518
CREATED:20230914T214829Z
LAST-MODIFIED:20231031T171546Z
UID:10015580-1827772200-1827783000@www.loveflemington.com
SUMMARY:Skunktown Karaoke Night
DESCRIPTION:EVERY THURSDAY\, 6:30 TO 9:30 \nHOSTED BY DJ TED D’BIERRE OF LIONFIRE ENTERTAINMENT \nSKUNKTOWN DISTILLERY \n39 STANGL RD\, FLEMINGTON\, NJ
URL:https://www.loveflemington.com/event/skunktown-karaoke-night/2027-12-02/
LOCATION:Skunktown Distillery\, 39 Stangl Rd\, Flemington\, 08822\, United States
CATEGORIES:Contest,Fall Fun
ATTACH;FMTTYPE=image/png:https://www.loveflemington.com/wp-content/uploads/2023/09/night-1.png
END:VEVENT
BEGIN:VEVENT
DTSTART;TZID=America/New_York:20271209T183000
DTEND;TZID=America/New_York:20271209T213000
DTSTAMP:20260424T123518
CREATED:20230914T214829Z
LAST-MODIFIED:20231031T171546Z
UID:10015581-1828377000-1828387800@www.loveflemington.com
SUMMARY:Skunktown Karaoke Night
DESCRIPTION:EVERY THURSDAY\, 6:30 TO 9:30 \nHOSTED BY DJ TED D’BIERRE OF LIONFIRE ENTERTAINMENT \nSKUNKTOWN DISTILLERY \n39 STANGL RD\, FLEMINGTON\, NJ
URL:https://www.loveflemington.com/event/skunktown-karaoke-night/2027-12-09/
LOCATION:Skunktown Distillery\, 39 Stangl Rd\, Flemington\, 08822\, United States
CATEGORIES:Contest,Fall Fun
ATTACH;FMTTYPE=image/png:https://www.loveflemington.com/wp-content/uploads/2023/09/night-1.png
END:VEVENT
BEGIN:VEVENT
DTSTART;TZID=America/New_York:20271216T183000
DTEND;TZID=America/New_York:20271216T213000
DTSTAMP:20260424T123518
CREATED:20230914T214829Z
LAST-MODIFIED:20231031T171546Z
UID:10015582-1828981800-1828992600@www.loveflemington.com
SUMMARY:Skunktown Karaoke Night
DESCRIPTION:EVERY THURSDAY\, 6:30 TO 9:30 \nHOSTED BY DJ TED D’BIERRE OF LIONFIRE ENTERTAINMENT \nSKUNKTOWN DISTILLERY \n39 STANGL RD\, FLEMINGTON\, NJ
URL:https://www.loveflemington.com/event/skunktown-karaoke-night/2027-12-16/
LOCATION:Skunktown Distillery\, 39 Stangl Rd\, Flemington\, 08822\, United States
CATEGORIES:Contest,Fall Fun
ATTACH;FMTTYPE=image/png:https://www.loveflemington.com/wp-content/uploads/2023/09/night-1.png
END:VEVENT
BEGIN:VEVENT
DTSTART;TZID=America/New_York:20271223T183000
DTEND;TZID=America/New_York:20271223T213000
DTSTAMP:20260424T123518
CREATED:20230914T214829Z
LAST-MODIFIED:20231031T171546Z
UID:10015583-1829586600-1829597400@www.loveflemington.com
SUMMARY:Skunktown Karaoke Night
DESCRIPTION:EVERY THURSDAY\, 6:30 TO 9:30 \nHOSTED BY DJ TED D’BIERRE OF LIONFIRE ENTERTAINMENT \nSKUNKTOWN DISTILLERY \n39 STANGL RD\, FLEMINGTON\, NJ
URL:https://www.loveflemington.com/event/skunktown-karaoke-night/2027-12-23/
LOCATION:Skunktown Distillery\, 39 Stangl Rd\, Flemington\, 08822\, United States
CATEGORIES:Contest,Fall Fun
ATTACH;FMTTYPE=image/png:https://www.loveflemington.com/wp-content/uploads/2023/09/night-1.png
END:VEVENT
BEGIN:VEVENT
DTSTART;TZID=America/New_York:20271230T183000
DTEND;TZID=America/New_York:20271230T213000
DTSTAMP:20260424T123518
CREATED:20230914T214829Z
LAST-MODIFIED:20231031T171546Z
UID:10015584-1830191400-1830202200@www.loveflemington.com
SUMMARY:Skunktown Karaoke Night
DESCRIPTION:EVERY THURSDAY\, 6:30 TO 9:30 \nHOSTED BY DJ TED D’BIERRE OF LIONFIRE ENTERTAINMENT \nSKUNKTOWN DISTILLERY \n39 STANGL RD\, FLEMINGTON\, NJ
URL:https://www.loveflemington.com/event/skunktown-karaoke-night/2027-12-30/
LOCATION:Skunktown Distillery\, 39 Stangl Rd\, Flemington\, 08822\, United States
CATEGORIES:Contest,Fall Fun
ATTACH;FMTTYPE=image/png:https://www.loveflemington.com/wp-content/uploads/2023/09/night-1.png
END:VEVENT
BEGIN:VEVENT
DTSTART;TZID=America/New_York:20280106T183000
DTEND;TZID=America/New_York:20280106T213000
DTSTAMP:20260424T123518
CREATED:20230914T214829Z
LAST-MODIFIED:20231031T171546Z
UID:10015585-1830796200-1830807000@www.loveflemington.com
SUMMARY:Skunktown Karaoke Night
DESCRIPTION:EVERY THURSDAY\, 6:30 TO 9:30 \nHOSTED BY DJ TED D’BIERRE OF LIONFIRE ENTERTAINMENT \nSKUNKTOWN DISTILLERY \n39 STANGL RD\, FLEMINGTON\, NJ
URL:https://www.loveflemington.com/event/skunktown-karaoke-night/2028-01-06/
LOCATION:Skunktown Distillery\, 39 Stangl Rd\, Flemington\, 08822\, United States
CATEGORIES:Contest,Fall Fun
ATTACH;FMTTYPE=image/png:https://www.loveflemington.com/wp-content/uploads/2023/09/night-1.png
END:VEVENT
BEGIN:VEVENT
DTSTART;TZID=America/New_York:20280113T183000
DTEND;TZID=America/New_York:20280113T213000
DTSTAMP:20260424T123518
CREATED:20230914T214829Z
LAST-MODIFIED:20231031T171546Z
UID:10015586-1831401000-1831411800@www.loveflemington.com
SUMMARY:Skunktown Karaoke Night
DESCRIPTION:EVERY THURSDAY\, 6:30 TO 9:30 \nHOSTED BY DJ TED D’BIERRE OF LIONFIRE ENTERTAINMENT \nSKUNKTOWN DISTILLERY \n39 STANGL RD\, FLEMINGTON\, NJ
URL:https://www.loveflemington.com/event/skunktown-karaoke-night/2028-01-13/
LOCATION:Skunktown Distillery\, 39 Stangl Rd\, Flemington\, 08822\, United States
CATEGORIES:Contest,Fall Fun
ATTACH;FMTTYPE=image/png:https://www.loveflemington.com/wp-content/uploads/2023/09/night-1.png
END:VEVENT
END:VCALENDAR